Workbook

Sheet Export
A1: 柳州市住房公积金管理中心2020年公开招聘编外聘用人员机试成绩
A2: 姓名 | B2: 性别 | C2: 年龄 | D2: 身份证号 | E2: 学历 | F2: 填报单位 | G2: 填报岗位 | H2: 准考证号 | I2: 成绩 | J2: 排名
A3: 莫海勤 | B3: 女 | C3: 22 | D3: 450222****2627 | E3: 全日制本科 | F3: 柳州市住房公积金管理中心 | G3: 柳东营业部前台工作人员 | H3: 2020020222 | I3: =VLOOKUP(A3,[1]成绩公示!$B:$K,9,FALSE) -> 100 | J3: =VLOOKUP(A3,[1]成绩公示!$B:$K,10,FALSE) -> 1
A4: 吕佩玲 | B4: 女 | C4: 26 | D4: 450205****1322 | E4: 全日制本科 | F4: 柳州市住房公积金管理中心 | G4: 柳东营业部前台工作人员 | H4: 2020020106 | I4: =VLOOKUP(A4,[1]成绩公示!$B:$K,9,FALSE) -> 98 | J4: =VLOOKUP(A4,[1]成绩公示!$B:$K,10,FALSE) -> 2
A5: 周錡 | B5: 女 | C5: 37 | D5: 450203****1324 | E5: 大专 | F5: 柳州市住房公积金管理中心 | G5: 柳东营业部前台工作人员 | H5: 2020020120 | I5: =VLOOKUP(A5,[1]成绩公示!$B:$K,9,FALSE) -> 97 | J5: =VLOOKUP(A5,[1]成绩公示!$B:$K,10,FALSE) -> 3
A6: 秦容丹 | B6: 女 | C6: 29 | D6: 450921****0423 | E6: 全日制本科 | F6: 柳州市住房公积金管理中心 | G6: 柳东营业部前台工作人员 | H6: 2020020114 | I6: =VLOOKUP(A6,[1]成绩公示!$B:$K,9,FALSE) -> 96 | J6: =VLOOKUP(A6,[1]成绩公示!$B:$K,10,FALSE) -> 4
A7: 张晗 | B7: 男 | C7: 31 | D7: 452223****0516 | E7: 全日制本科 | F7: 柳州市住房公积金管理中心 | G7: 柳东营业部前台工作人员 | H7: 2020020209 | I7: =VLOOKUP(A7,[1]成绩公示!$B:$K,9,FALSE) -> 96 | J7: =VLOOKUP(A7,[1]成绩公示!$B:$K,10,FALSE) -> 4
A8: 周思衡 | B8: 女 | C8: 22 | D8: 450205****1348 | E8: 全日制本科 | F8: 柳州市住房公积金管理中心 | G8: 柳东营业部前台工作人员 | H8: 2020020105 | I8: =VLOOKUP(A8,[1]成绩公示!$B:$K,9,FALSE) -> 93 | J8: =VLOOKUP(A8,[1]成绩公示!$B:$K,10,FALSE) -> 6
A9: 王茜 | B9: 女 | C9: 32 | D9: 450202****0620 | E9: 全日制本科 | F9: 柳州市住房公积金管理中心 | G9: 柳东营业部前台工作人员 | H9: 2020020214 | I9: =VLOOKUP(A9,[1]成绩公示!$B:$K,9,FALSE) -> 92 | J9: =VLOOKUP(A9,[1]成绩公示!$B:$K,10,FALSE) -> 7
A10: 潘玺好 | B10: 女 | C10: 27 | D10: 452223****6521 | E10: 全日制本科 | F10: 柳州市住房公积金管理中心 | G10: 柳东营业部前台工作人员 | H10: 2020020107 | I10: =VLOOKUP(A10,[1]成绩公示!$B:$K,9,FALSE) -> 90 | J10: =VLOOKUP(A10,[1]成绩公示!$B:$K,10,FALSE) -> 8
A11: 黄志雄 | B11: 男 | C11: 27 | D11: 450324****581X | E11: 全日制本科 | F11: 柳州市住房公积金管理中心 | G11: 柳东营业部前台工作人员 | H11: 2020020117 | I11: =VLOOKUP(A11,[1]成绩公示!$B:$K,9,FALSE) -> 90 | J11: =VLOOKUP(A11,[1]成绩公示!$B:$K,10,FALSE) -> 8
A12: 韦健龙 | B12: 男 | C12: 24 | D12: 450221****6312 | E12: 全日制本科 | F12: 柳州市住房公积金管理中心 | G12: 柳东营业部前台工作人员 | H12: 2020020127 | I12: =VLOOKUP(A12,[1]成绩公示!$B:$K,9,FALSE) -> 90 | J12: =VLOOKUP(A12,[1]成绩公示!$B:$K,10,FALSE) -> 8
A13: 练研颖 | B13: 女 | C13: 31 | D13: 450881****8029 | E13: 大专 | F13: 柳州市住房公积金管理中心 | G13: 柳东营业部前台工作人员 | H13: 2020020203 | I13: =VLOOKUP(A13,[1]成绩公示!$B:$K,9,FALSE) -> 90 | J13: =VLOOKUP(A13,[1]成绩公示!$B:$K,10,FALSE) -> 8
A14: 刘冬妍 | B14: 女 | C14: 24 | D14: 452223****0027 | E14: 全日制本科 | F14: 柳州市住房公积金管理中心 | G14: 柳东营业部前台工作人员 | H14: 2020020110 | I14: =VLOOKUP(A14,[1]成绩公示!$B:$K,9,FALSE) -> 88 | J14: =VLOOKUP(A14,[1]成绩公示!$B:$K,10,FALSE) -> 12
... A66: 韦玉飚 | B66: 女 | C66: 28 | D66: 450204****1425 | E66: 非全日制本科 | F66: 柳州市住房公积金管理中心 | G66: 柳东营业部前台工作人员 | H66: 2020020225 | I66: =VLOOKUP(A66,[1]成绩公示!$B:$K,9,FALSE) -> 0 | J66: =VLOOKUP(A66,[1]成绩公示!$B:$K,10,FALSE) -> 缺考
